BEGIN:VCALENDAR
VERSION:2.0
PRODID:-//La Bonbonnière Genève Chocolaterie - ECPv6.15.20//NONSGML v1.0//EN
CALSCALE:GREGORIAN
METHOD:PUBLISH
X-WR-CALNAME:La Bonbonnière Genève Chocolaterie
X-ORIGINAL-URL:https://shop.labonbonniere.ch
X-WR-CALDESC:Évènements pour La Bonbonnière Genève Chocolaterie
REFRESH-INTERVAL;VALUE=DURATION:PT1H
X-Robots-Tag:noindex
X-PUBLISHED-TTL:PT1H
BEGIN:VTIMEZONE
TZID:Europe/Paris
BEGIN:DAYLIGHT
TZOFFSETFROM:+0100
TZOFFSETTO:+0200
TZNAME:CEST
DTSTART:20230326T010000
END:DAYLIGHT
BEGIN:STANDARD
TZOFFSETFROM:+0200
TZOFFSETTO:+0100
TZNAME:CET
DTSTART:20231029T010000
END:STANDARD
BEGIN:DAYLIGHT
TZOFFSETFROM:+0100
TZOFFSETTO:+0200
TZNAME:CEST
DTSTART:20240331T010000
END:DAYLIGHT
BEGIN:STANDARD
TZOFFSETFROM:+0200
TZOFFSETTO:+0100
TZNAME:CET
DTSTART:20241027T010000
END:STANDARD
BEGIN:DAYLIGHT
TZOFFSETFROM:+0100
TZOFFSETTO:+0200
TZNAME:CEST
DTSTART:20250330T010000
END:DAYLIGHT
BEGIN:STANDARD
TZOFFSETFROM:+0200
TZOFFSETTO:+0100
TZNAME:CET
DTSTART:20251026T010000
END:STANDARD
END:VTIMEZONE
BEGIN:VEVENT
DTSTART;TZID=Europe/Paris:20240928T100000
DTEND;TZID=Europe/Paris:20240928T120000
DTSTAMP:20260423T200753
CREATED:20240612T145404Z
LAST-MODIFIED:20240612T145404Z
UID:10000369-1727517600-1727524800@shop.labonbonniere.ch
SUMMARY:Fabriquez une boite en chocolat et des rochers
DESCRIPTION:Créez votre boite en chocolat personnalisée et de délicieux rochers pour la garnir !\nLe programme :  \n\nNos maîtres-chocolatiers vous initieront à l’histoire du chocolat et de la chocolaterie La Bonbonnière.\nVous prendrez le temps de déguster et de ressentir les saveurs de 3 créations de La Bonbonnière.\nÉtape par étape\, nos maîtres chocolatiers vous guideront et vous donneront leurs astuces pour réaliser une boite en chocolat personnalisée et des rochers au chocolat.\n\nTout au long de l’expérience\, notre équipe sera là pour répondre à toutes vos questions. \n  \nQu’est-ce qui est inclus ? \nToque\, tablier\, chocolat et ingrédients divers\, tout le matériel est fourni lors de l’atelier.\nVous repartirez avec vos créations que vous pourrez déguster et/ou partager quand vous le souhaitez. \n  \nDurée : 2h \n  \nÀ noter : \nDès 12 ans. Minimum 4 participants pour que l’atelier ait lieu. \nLes cours ont lieu en français\, mais peuvent être traduits en anglais. \nSeules les annulations effectuées 48h avant le début de l’atelier sont remboursées. \nExigences alimentaires et allergies : Les tablettes peuvent être réalisées en chocolat au lait ou chocolat noir. Le chocolat noir étant végane et sans gluten\, cet atelier est adapté. Cependant\, si vous êtes allergique aux noisettes\, aux amandes\, pistaches\, ou autres\, merci de le préciser en commentaire au moment de votre réservation\, car cet atelier utilise des fruits secs. \n 
URL:https://shop.labonbonniere.ch/atelier/fabriquez-une-boite-en-chocolat-et-des-rochers-20/
LOCATION:La Bonbonnière Chocolaterie – L’École du Chocolat\, Rue Pierre Fatio 15\, Genève\, 1204\, Suisse
CATEGORIES:Atelier Adulte
ATTACH;FMTTYPE=image/jpeg:https://shop.labonbonniere.ch/wp-content/uploads/2022/09/ateliers_geneve_rochers_choco_titre1.jpg
ORGANIZER;CN="La Bonbonni%C3%A8re Gen%C3%A8ve":MAILTO:communication@labonbonniere.ch
GEO:46.2023577;6.1540153
X-APPLE-STRUCTURED-LOCATION;VALUE=URI;X-ADDRESS=La Bonbonnière Chocolaterie – L’École du Chocolat Rue Pierre Fatio 15 Genève 1204 Suisse;X-APPLE-RADIUS=500;X-TITLE=Rue Pierre Fatio 15:geo:6.1540153,46.2023577
END:VEVENT
END:VCALENDAR