BEGIN:VCALENDAR
VERSION:2.0
PRODID:-//La Bonbonnière Genève Chocolaterie - ECPv6.15.20//NONSGML v1.0//EN
CALSCALE:GREGORIAN
METHOD:PUBLISH
X-ORIGINAL-URL:https://shop.labonbonniere.ch
X-WR-CALDESC:Évènements pour La Bonbonnière Genève Chocolaterie
REFRESH-INTERVAL;VALUE=DURATION:PT1H
X-Robots-Tag:noindex
X-PUBLISHED-TTL:PT1H
BEGIN:VTIMEZONE
TZID:Europe/Paris
BEGIN:DAYLIGHT
TZOFFSETFROM:+0100
TZOFFSETTO:+0200
TZNAME:CEST
DTSTART:20240331T010000
END:DAYLIGHT
BEGIN:STANDARD
TZOFFSETFROM:+0200
TZOFFSETTO:+0100
TZNAME:CET
DTSTART:20241027T010000
END:STANDARD
BEGIN:DAYLIGHT
TZOFFSETFROM:+0100
TZOFFSETTO:+0200
TZNAME:CEST
DTSTART:20250330T010000
END:DAYLIGHT
BEGIN:STANDARD
TZOFFSETFROM:+0200
TZOFFSETTO:+0100
TZNAME:CET
DTSTART:20251026T010000
END:STANDARD
BEGIN:DAYLIGHT
TZOFFSETFROM:+0100
TZOFFSETTO:+0200
TZNAME:CEST
DTSTART:20260329T010000
END:DAYLIGHT
BEGIN:STANDARD
TZOFFSETFROM:+0200
TZOFFSETTO:+0100
TZNAME:CET
DTSTART:20261025T010000
END:STANDARD
END:VTIMEZONE
BEGIN:VEVENT
DTSTART;TZID=Europe/Paris:20250423T140000
DTEND;TZID=Europe/Paris:20250423T150000
DTSTAMP:20260424T145116
CREATED:20250417T120033Z
LAST-MODIFIED:20250417T122817Z
UID:10000488-1745416800-1745420400@shop.labonbonniere.ch
SUMMARY:Créez un lapin en chocolat
DESCRIPTION:Partagez un moment convivial et ludique entre amis ou en famille à l’École du Chocolat de La Bonbonnière !\nLe programme :  \n\nPlongez dans l’univers du chocolat artisanal suisse grâce à cet atelier animé par un professionnel de La Bonbonnière Genève. Quelle manière plus agréable de passer du temps ensemble qu’autour d’une passion gourmande qui rassemble petits et grands : Le Chocolat ?\nIdéal pour partager un moment privilégié autour d’une expérience unique en famille ou entre amis\, cet atelier chocolaté vous dévoilera les secrets du chocolat à travers une initiation à son histoire et sa fabrication\, une dégustation\, ainsi qu’une mise en pratique vous permettant de créer une petite poule en chocolat.\n\nTout au long de l’expérience\, notre équipe sera là pour répondre à toutes vos questions. \n  \nQu’est-ce qui est inclus ? \nToque\, tablier\, chocolat et ingrédients divers\, tout le matériel est fourni lors de l’atelier.\nVous repartirez avec votre carte en chocolat que vous pourrez déguster et/ou partager quand vous le souhaitez. \n  \nDurée : 1h \nDifficulté : Découverte – Niveau 1 \n  \nÀ noter : \nDès 12 si participe seul\, dès 6 ans avec participation des parents. Minimum 4 participants pour que l’atelier ait lieu. \nLes cours ont lieu en français\, mais peuvent être traduits en anglais. \nSeules les annulations effectuées 48h avant le début de l’atelier sont remboursées. \nExigences alimentaires et allergies : Les tablettes peuvent être réalisées en chocolat au lait ou chocolat noir. Le chocolat noir étant végane et sans gluten\, cet atelier est adapté. Cependant\, si vous êtes allergique aux noisettes\, aux amandes\, pistaches\, ou autres\, merci de le préciser en commentaire au moment de votre réservation\, car cet atelier utilise des fruits secs.
URL:https://shop.labonbonniere.ch/atelier/creez-un-lapin-en-chocolat-7/
LOCATION:La Bonbonnière Chocolaterie – L’École du Chocolat\, Rue Pierre Fatio 15\, Genève\, 1204\, Suisse
CATEGORIES:Niveau 1
ATTACH;FMTTYPE=image/jpeg:https://shop.labonbonniere.ch/wp-content/uploads/2023/03/banniere_ecole_ateliers_paques_poule_589.jpg
ORGANIZER;CN="La Bonbonni%C3%A8re Gen%C3%A8ve":MAILTO:communication@labonbonniere.ch
GEO:46.2023577;6.1540153
X-APPLE-STRUCTURED-LOCATION;VALUE=URI;X-ADDRESS=La Bonbonnière Chocolaterie – L’École du Chocolat Rue Pierre Fatio 15 Genève 1204 Suisse;X-APPLE-RADIUS=500;X-TITLE=Rue Pierre Fatio 15:geo:6.1540153,46.2023577
END:VEVENT
BEGIN:VEVENT
DTSTART;TZID=Europe/Paris:20250423T160000
DTEND;TZID=Europe/Paris:20250423T170000
DTSTAMP:20260424T145116
CREATED:20241218T204707Z
LAST-MODIFIED:20241218T204707Z
UID:10000432-1745424000-1745427600@shop.labonbonniere.ch
SUMMARY:Atelier Chocolat Pâques - Enfants
DESCRIPTION:Un éveil des sens chocolaté pour les enfants sur le thème de Pâques !\nLe programme :  \n\nToque sur la tête\, tablier autour du cou\, dans leur tenu d’apprenti chocolatier les enfants découvriront ce qu’il y a derrière de délicieux chocolats et partageront un atelier chocolat unique.\nLes professionnels de La Bonbonnière leur raconteront de manière ludique l’histoire et les étapes de fabrication du chocolat tout en leur faisant déguster différents crus chocolatés afin d’éveiller leur palais aux subtils arômes du chocolat.\nEnfin\, les enfants apprendront quelques notions de chocolaterie et feront appel à leur créativité pour réaliser leur oeuvre de Pâques chocolatée.\n\nTout au long de l’expérience\, notre équipe sera là pour répondre à toutes vos questions. \n  \nQu’est-ce qui est inclus ? \nToque\, tablier\, chocolat et ingrédients divers\, tout le matériel est fourni lors de l’atelier.\nA la fin de l’atelier\, les enfants ramèneront leur création chez eux pour se régaler et/ou les faire déguster à leur entourage. \n  \nDurée : 1h \n  \nÀ noter : \nDès 6 ans. Minimum 4 participants pour que l’atelier ait lieu. \nLes cours ont lieu en français\, mais peuvent être traduits en anglais. \nSeules les annulations effectuées 48h avant le début de l’atelier sont remboursées. \nExigences alimentaires et allergies : Les truffes peuvent être réalisées en chocolat au lait ou chocolat noir. Le chocolat noir étant végane et sans gluten\, cet atelier est adapté. Cependant\, si vous êtes allergique aux noisettes\, aux amandes\, pistaches\, ou autres\, merci de le préciser en commentaire au moment de votre réservation\, car cet atelier utilise des fruits secs.
URL:https://shop.labonbonniere.ch/atelier/atelier-chocolat-paques-enfants-3/
LOCATION:La Bonbonnière Chocolaterie – L’École du Chocolat\, Rue Pierre Fatio 15\, Genève\, 1204\, Suisse
CATEGORIES:Niveau 1
ATTACH;FMTTYPE=image/jpeg:https://shop.labonbonniere.ch/wp-content/uploads/2023/03/banniere_ecole_ateliers_paques_enfants_589.jpg
ORGANIZER;CN="La Bonbonni%C3%A8re Gen%C3%A8ve":MAILTO:communication@labonbonniere.ch
GEO:46.2023577;6.1540153
X-APPLE-STRUCTURED-LOCATION;VALUE=URI;X-ADDRESS=La Bonbonnière Chocolaterie – L’École du Chocolat Rue Pierre Fatio 15 Genève 1204 Suisse;X-APPLE-RADIUS=500;X-TITLE=Rue Pierre Fatio 15:geo:6.1540153,46.2023577
END:VEVENT
END:VCALENDAR