BEGIN:VCALENDAR
VERSION:2.0
PRODID:-//La Bonbonnière Genève Chocolaterie - ECPv6.15.20//NONSGML v1.0//EN
CALSCALE:GREGORIAN
METHOD:PUBLISH
X-ORIGINAL-URL:https://shop.labonbonniere.ch
X-WR-CALDESC:Évènements pour La Bonbonnière Genève Chocolaterie
REFRESH-INTERVAL;VALUE=DURATION:PT1H
X-Robots-Tag:noindex
X-PUBLISHED-TTL:PT1H
BEGIN:VTIMEZONE
TZID:Europe/Paris
BEGIN:DAYLIGHT
TZOFFSETFROM:+0100
TZOFFSETTO:+0200
TZNAME:CEST
DTSTART:20230326T010000
END:DAYLIGHT
BEGIN:STANDARD
TZOFFSETFROM:+0200
TZOFFSETTO:+0100
TZNAME:CET
DTSTART:20231029T010000
END:STANDARD
BEGIN:DAYLIGHT
TZOFFSETFROM:+0100
TZOFFSETTO:+0200
TZNAME:CEST
DTSTART:20240331T010000
END:DAYLIGHT
BEGIN:STANDARD
TZOFFSETFROM:+0200
TZOFFSETTO:+0100
TZNAME:CET
DTSTART:20241027T010000
END:STANDARD
BEGIN:DAYLIGHT
TZOFFSETFROM:+0100
TZOFFSETTO:+0200
TZNAME:CEST
DTSTART:20250330T010000
END:DAYLIGHT
BEGIN:STANDARD
TZOFFSETFROM:+0200
TZOFFSETTO:+0100
TZNAME:CET
DTSTART:20251026T010000
END:STANDARD
END:VTIMEZONE
BEGIN:VEVENT
DTSTART;TZID=Europe/Paris:20240907T110000
DTEND;TZID=Europe/Paris:20240907T120000
DTSTAMP:20260423T171044
CREATED:20240612T144612Z
LAST-MODIFIED:20240612T144612Z
UID:10000365-1725706800-1725710400@shop.labonbonniere.ch
SUMMARY:Création de cartes chocolat d'été
DESCRIPTION:Partagez un moment convivial et ludique en famille à l’École du Chocolat de La Bonbonnière !\nQuelle manière plus agréable de passer du temps ensemble qu’autour d’une passion gourmande qui rassemble petits et grands : Le Chocolat ? \nLe programme :  \n\nPlongez dans l’univers du chocolat artisanal suisse grâce à cet atelier animé par un professionnel de la chocolaterie La Bonbonnière Genève.\nIdéal pour partager un moment privilégié autour d’une expérience unique en famille ou entre amis\, cet atelier chocolaté vous dévoilera les secrets du chocolat à travers une initiation à son histoire et sa fabrication\, une dégustation\, ainsi qu’une mise en pratique vous permettant de créer une carte en chocolat sur le thème de l’été.\n\nTout au long de l’expérience\, notre équipe sera là pour répondre à toutes vos questions. \n  \nQu’est-ce qui est inclus ? \nToque\, tablier\, chocolat et ingrédients divers\, tout le matériel est fourni lors de l’atelier.\nVous repartirez avec votre carte en chocolat que vous pourrez déguster et/ou partager quand vous le souhaitez. \n  \nDurée : 1h \n  \nÀ noter : \nDès 12 ans si participe seul. Dès 6 ans si accompagné d’un adulte participant à l’atelier. Minimum 4 participants pour que l’atelier ait lieu. \nLes cours ont lieu en français\, mais peuvent être traduits en anglais. \nSeules les annulations effectuées 48h avant le début de l’atelier sont remboursées. \nExigences alimentaires et allergies : Les créations peuvent être réalisées en chocolat au lait ou chocolat noir. Le chocolat noir étant végane et sans gluten\, cet atelier est adapté. Cependant\, si vous êtes allergique aux noisettes\, aux amandes\, pistaches\, ou autres\, merci de le préciser en commentaire au moment de votre réservation\, car cet atelier peut utiliser des fruits secs.
URL:https://shop.labonbonniere.ch/atelier/creation-de-cartes-chocolat-dete-2/
LOCATION:La Bonbonnière Chocolaterie – L’École du Chocolat\, Rue Pierre Fatio 15\, Genève\, 1204\, Suisse
CATEGORIES:Niveau 1
ATTACH;FMTTYPE=image/jpeg:https://shop.labonbonniere.ch/wp-content/uploads/2022/10/ateliers_geneve_carte_chocolat_589_2.jpg
ORGANIZER;CN="La Bonbonni%C3%A8re Gen%C3%A8ve":MAILTO:communication@labonbonniere.ch
GEO:46.2023577;6.1540153
X-APPLE-STRUCTURED-LOCATION;VALUE=URI;X-ADDRESS=La Bonbonnière Chocolaterie – L’École du Chocolat Rue Pierre Fatio 15 Genève 1204 Suisse;X-APPLE-RADIUS=500;X-TITLE=Rue Pierre Fatio 15:geo:6.1540153,46.2023577
END:VEVENT
BEGIN:VEVENT
DTSTART;TZID=Europe/Paris:20240911T163000
DTEND;TZID=Europe/Paris:20240911T173000
DTSTAMP:20260423T171044
CREATED:20240612T150636Z
LAST-MODIFIED:20240910T115241Z
UID:10000377-1726072200-1726075800@shop.labonbonniere.ch
SUMMARY:Atelier Bonhomme Chocolat - Enfants
DESCRIPTION:Un éveil des sens chocolaté pour les enfants !\nLe programme :  \n\nToque sur la tête\, tablier autour du cou\, dans leur tenu d’apprenti chocolatier les enfants découvriront ce qu’il y a derrière de délicieux chocolats.\nLes professionnels de La Bonbonnière leur raconteront de manière ludique l’histoire et les étapes de fabrication du chocolat tout en leur faisant déguster différents crus chocolatés afin d’éveiller leur palais aux subtils arômes du chocolat.\nEnfin\, les enfants apprendront quelques notions de chocolaterie et feront appel à leur créativité pour réaliser un bonhomme en chocolat aussi délicieux que mignon.\n\nTout au long de l’expérience\, notre équipe sera là pour répondre à toutes vos questions. \n  \nQu’est-ce qui est inclus ? \nToque\, tablier\, chocolat et ingrédients divers\, tout le matériel est fourni lors de l’atelier.\nA la fin de l’atelier\, les enfants ramèneront leur création chez eux pour se régaler et/ou les faire déguster à leur entourage. \n  \nDurée : 1h \n  \nÀ noter : \nDès 6 ans. Minimum 4 participants pour que l’atelier ait lieu. \nLes cours ont lieu en français\, mais peuvent être traduits en anglais. \nSeules les annulations effectuées 48h avant le début de l’atelier sont remboursées. \nExigences alimentaires et allergies : Les créations peuvent être réalisées en chocolat au lait ou chocolat noir. Le chocolat noir étant végane et sans gluten\, cet atelier est adapté. Cependant\, si vous êtes allergique aux noisettes\, aux amandes\, pistaches\, ou autres\, merci de le préciser en commentaire au moment de votre réservation\, car cet atelier utilise des fruits secs.
URL:https://shop.labonbonniere.ch/atelier/atelier-bonhomme-chocolat-enfants-15/
LOCATION:La Bonbonnière Chocolaterie – L’École du Chocolat\, Rue Pierre Fatio 15\, Genève\, 1204\, Suisse
CATEGORIES:Atelier Enfants,Niveau 1
ATTACH;FMTTYPE=image/jpeg:https://shop.labonbonniere.ch/wp-content/uploads/2023/08/banniere_ecole_ateliers_bonhomme_enfants_589.jpg
ORGANIZER;CN="La Bonbonni%C3%A8re Gen%C3%A8ve":MAILTO:communication@labonbonniere.ch
GEO:46.2023577;6.1540153
X-APPLE-STRUCTURED-LOCATION;VALUE=URI;X-ADDRESS=La Bonbonnière Chocolaterie – L’École du Chocolat Rue Pierre Fatio 15 Genève 1204 Suisse;X-APPLE-RADIUS=500;X-TITLE=Rue Pierre Fatio 15:geo:6.1540153,46.2023577
END:VEVENT
BEGIN:VEVENT
DTSTART;TZID=Europe/Paris:20240914T100000
DTEND;TZID=Europe/Paris:20240914T120000
DTSTAMP:20260423T171044
CREATED:20240612T144958Z
LAST-MODIFIED:20240612T144958Z
UID:10000367-1726308000-1726315200@shop.labonbonniere.ch
SUMMARY:Initiation à la chocolaterie - Truffes Chocolat
DESCRIPTION:Apprenez les bases de la chocolaterie artisanale avec des professionnels !\nLe programme :  \n\nDans l’atmosphère unique de l’École du Chocolat au centre de Genève\, à l’heure du rendez-vous\, nous vous accueillerons pour ce cours d’initiation à la chocolaterie de 2h.\nTout en dégustant quelques créations phares de La Bonbonnière\, nos maîtres chocolatiers vous expliqueront l’histoire du chocolat suisse et ses secrets.\nEnsuite\, vous passerez de la théorie à la pratique en expérimentant diverses techniques et en créant vos propres truffes au chocolat.\n\nTout au long de l’expérience\, notre équipe sera là pour répondre à toutes vos questions. \n  \nQu’est-ce qui est inclus ? \nToque\, tablier\, chocolat et ingrédients divers\, tout le matériel est fourni lors de l’atelier.\nÀ la fin de l’atelier\, vous pourrez ramener votre création chez vous pour vous régaler et/ou les faire déguster à votre entourage. \n  \nDurée : 2h \n  \nÀ noter : \nDès 12 ans si participe seul\, dès 8 ans si accompagné par un adulte participant inscrit à l’atelier. Minimum 4 participants pour que l’atelier ait lieu. \nLes cours ont lieu en français\, mais peuvent être traduits en anglais. \nSeules les annulations effectuées 48h avant le début de l’atelier sont remboursées. \nExigences alimentaires et allergies : Les créations peuvent être réalisées en chocolat au lait ou chocolat noir. Le chocolat noir étant végane et sans gluten\, cet atelier est adapté. Cependant\, si vous êtes allergique aux noisettes\, aux amandes\, pistaches\, ou autres\, merci de le préciser en commentaire au moment de votre réservation\, car cet atelier peut utiliser des fruits secs.
URL:https://shop.labonbonniere.ch/atelier/initiation-a-la-chocolaterie-truffes-chocolat-4/
LOCATION:La Bonbonnière Chocolaterie – L’École du Chocolat\, Rue Pierre Fatio 15\, Genève\, 1204\, Suisse
CATEGORIES:Niveau 1
ATTACH;FMTTYPE=image/jpeg:https://shop.labonbonniere.ch/wp-content/uploads/2022/09/initiation_chocolaterie_atelier_geneve_titre_589.jpg
ORGANIZER;CN="La Bonbonni%C3%A8re Gen%C3%A8ve":MAILTO:communication@labonbonniere.ch
GEO:46.2023577;6.1540153
X-APPLE-STRUCTURED-LOCATION;VALUE=URI;X-ADDRESS=La Bonbonnière Chocolaterie – L’École du Chocolat Rue Pierre Fatio 15 Genève 1204 Suisse;X-APPLE-RADIUS=500;X-TITLE=Rue Pierre Fatio 15:geo:6.1540153,46.2023577
END:VEVENT
BEGIN:VEVENT
DTSTART;TZID=Europe/Paris:20240921T170000
DTEND;TZID=Europe/Paris:20240921T180000
DTSTAMP:20260423T171044
CREATED:20240612T145104Z
LAST-MODIFIED:20240612T145104Z
UID:10000368-1726938000-1726941600@shop.labonbonniere.ch
SUMMARY:Réalisez votre tablette de chocolat
DESCRIPTION:Créez une délicieuse tablette de chocolat !\nLe programme :  \n\nAprès une introduction à l’histoire du chocolat et de la chocolaterie La Bonbonnière Genève\, vous dégusterez quelques créations phares de la maison puis apprendrez avec un professionnel les étapes et les astuces pour réaliser une délicieuse tablette de chocolat.\n\nTout au long de l’expérience\, notre équipe sera là pour répondre à toutes vos questions. \n  \nQu’est-ce qui est inclus ? \nToque\, tablier\, chocolat et ingrédients divers\, tout le matériel est fourni lors de l’atelier.\nVous repartirez avec la tablette réalisée que vous pourrez déguster et/ou partager quand vous le souhaitez. \n  \nDurée : 1h \n  \nÀ noter : \nDès 12 ans si participe seul\, dès 6 ans si adulte participant inscrit avec l’enfant. Minimum 4 participants pour que l’atelier ait lieu. \nLes cours ont lieu en français\, mais peuvent être traduits en anglais. \nSeules les annulations effectuées 48h avant le début de l’atelier sont remboursées. \nExigences alimentaires et allergies : Les créations peuvent être réalisées en chocolat au lait ou chocolat noir. Le chocolat noir étant végane et sans gluten\, cet atelier est adapté. Cependant\, si vous êtes allergique aux noisettes\, aux amandes\, pistaches\, ou autres\, merci de le préciser en commentaire au moment de votre réservation\, car cet atelier utilise des fruits secs. \n 
URL:https://shop.labonbonniere.ch/atelier/realisez-votre-tablette-de-chocolat-37/
LOCATION:La Bonbonnière Chocolaterie – L’École du Chocolat\, Rue Pierre Fatio 15\, Genève\, 1204\, Suisse
CATEGORIES:Niveau 1
ORGANIZER;CN="La Bonbonni%C3%A8re Gen%C3%A8ve":MAILTO:communication@labonbonniere.ch
GEO:46.2023577;6.1540153
X-APPLE-STRUCTURED-LOCATION;VALUE=URI;X-ADDRESS=La Bonbonnière Chocolaterie – L’École du Chocolat Rue Pierre Fatio 15 Genève 1204 Suisse;X-APPLE-RADIUS=500;X-TITLE=Rue Pierre Fatio 15:geo:6.1540153,46.2023577
END:VEVENT
BEGIN:VEVENT
DTSTART;TZID=Europe/Paris:20240925T170000
DTEND;TZID=Europe/Paris:20240925T180000
DTSTAMP:20260423T171044
CREATED:20240612T150816Z
LAST-MODIFIED:20240924T180041Z
UID:10000378-1727283600-1727287200@shop.labonbonniere.ch
SUMMARY:Atelier Chocolat Créatif - Enfants
DESCRIPTION:Un éveil des sens chocolaté pour les enfants !\nLe programme :  \n\nToque sur la tête\, tablier autour du cou\, dans leur tenu d’apprenti chocolatier les enfants découvriront ce qu’il y a derrière de délicieux chocolats.\nLes professionnels de La Bonbonnière leur raconteront de manière ludique l’histoire et les étapes de fabrication du chocolat tout en leur faisant déguster différents crus chocolatés afin d’éveiller leur palais aux subtils arômes du chocolat.\nEnfin\, les enfants apprendront quelques notions de chocolaterie et feront appel à leur créativité pour réaliser leur oeuvre chocolatée.\n\nTout au long de l’expérience\, notre équipe sera là pour répondre à toutes vos questions. \n  \nQu’est-ce qui est inclus ? \nToque\, tablier\, chocolat et ingrédients divers\, tout le matériel est fourni lors de l’atelier.\nA la fin de l’atelier\, les enfants ramèneront leur création chez eux pour se régaler et/ou les faire déguster à leur entourage. \n  \nDurée : 1h \n  \nÀ noter : \nDès 6 ans. Minimum 4 participants pour que l’atelier ait lieu. \nLes cours ont lieu en français\, mais peuvent être traduits en anglais. \nSeules les annulations effectuées 48h avant le début de l’atelier sont remboursées. \nExigences alimentaires et allergies : Les créations peuvent être réalisées en chocolat au lait ou chocolat noir. Le chocolat noir étant végane et sans gluten\, cet atelier est adapté. Cependant\, si vous êtes allergique aux noisettes\, aux amandes\, pistaches\, ou autres\, merci de le préciser en commentaire au moment de votre réservation\, car cet atelier utilise des fruits secs.
URL:https://shop.labonbonniere.ch/atelier/atelier-chocolat-creatif-enfants-23/
LOCATION:La Bonbonnière Chocolaterie – L’École du Chocolat\, Rue Pierre Fatio 15\, Genève\, 1204\, Suisse
CATEGORIES:Atelier Enfants,Niveau 1
ATTACH;FMTTYPE=image/jpeg:https://shop.labonbonniere.ch/wp-content/uploads/2022/12/banniere_ecole_ateliers_enfants.jpg
ORGANIZER;CN="La Bonbonni%C3%A8re Gen%C3%A8ve":MAILTO:communication@labonbonniere.ch
GEO:46.2023577;6.1540153
X-APPLE-STRUCTURED-LOCATION;VALUE=URI;X-ADDRESS=La Bonbonnière Chocolaterie – L’École du Chocolat Rue Pierre Fatio 15 Genève 1204 Suisse;X-APPLE-RADIUS=500;X-TITLE=Rue Pierre Fatio 15:geo:6.1540153,46.2023577
END:VEVENT
BEGIN:VEVENT
DTSTART;TZID=Europe/Paris:20240927T180000
DTEND;TZID=Europe/Paris:20240927T200000
DTSTAMP:20260423T171044
CREATED:20240612T151753Z
LAST-MODIFIED:20240612T151753Z
UID:10000383-1727460000-1727467200@shop.labonbonniere.ch
SUMMARY:Afterwork Chocolat sur un thème surprise
DESCRIPTION:Passez un moment privilégié avec les maîtres chocolatiers de La Bonbonnière !\nLe programme :  \n\n\n\nLes maîtres-chocolatiers de la chocolaterie La Bonbonnière vous accueilleront à L’Ecole du Chocolat pour un moment unique de partage et d’initiation autour du chocolat.\n\n\n\n\nEtape par étape\, ils vous guideront et vous donneront leurs astuces pour réaliser une création en chocolat sur un thème surprise que vous découvrirez le soir de l’événement.\nTout en vous dévoilant les coulisses de la chocolaterie artisanale suisse\, nos maîtres-chocolatiers vous feront déguster leurs délicieuses créations chocolatées et partageront un apéritif avec vous composé de charcuterie et fromage des Halles de Rive ainsi que de Baccarat de la Cave de Genève. .\n\nTout au long de l’expérience\, notre équipe sera là pour répondre à toutes vos questions. \n  \nQu’est-ce qui est inclus ? \nToque\, tablier\, chocolat et ingrédients divers\, tout le matériel est fourni lors de l’atelier.\nVous repartirez avec vos créations que vous pourrez déguster et/ou partager quand vous le souhaitez. \n  \nDurée : 2h \n  \nÀ noter : \nDès 12 ans si participe seul. Minimum 5 participants pour que l’atelier ait lieu. \nLes cours ont lieu en français\, mais peuvent être traduits en anglais. \nSeules les annulations effectuées 48h avant le début de l’atelier sont remboursées. \n  \nRetrouvez le programme complet des ateliers et afterworks à l’École du Chocolat sur cette page. \n  \nExigences alimentaires et allergies : Les créations peuvent être réalisées en chocolat au lait ou chocolat noir. Le chocolat noir étant végane et sans gluten\, cet atelier est adapté. Cependant\, si vous êtes allergique aux noisettes\, aux amandes\, pistaches\, ou autres\, merci de le préciser en commentaire au moment de votre réservation\, car cet atelier utilise des fruits secs. \n 
URL:https://shop.labonbonniere.ch/atelier/afterwork-chocolat-sur-un-theme-surprise-3/
LOCATION:La Bonbonnière Chocolaterie – L’École du Chocolat\, Rue Pierre Fatio 15\, Genève\, 1204\, Suisse
CATEGORIES:Atelier Adulte,Niveau 1
ATTACH;FMTTYPE=image/jpeg:https://shop.labonbonniere.ch/wp-content/uploads/2022/12/banniere_afterwork_ateliers_589.jpg
ORGANIZER;CN="La Bonbonni%C3%A8re Gen%C3%A8ve":MAILTO:communication@labonbonniere.ch
GEO:46.2023577;6.1540153
X-APPLE-STRUCTURED-LOCATION;VALUE=URI;X-ADDRESS=La Bonbonnière Chocolaterie – L’École du Chocolat Rue Pierre Fatio 15 Genève 1204 Suisse;X-APPLE-RADIUS=500;X-TITLE=Rue Pierre Fatio 15:geo:6.1540153,46.2023577
END:VEVENT
BEGIN:VEVENT
DTSTART;TZID=Europe/Paris:20240928T100000
DTEND;TZID=Europe/Paris:20240928T120000
DTSTAMP:20260423T171044
CREATED:20240612T145404Z
LAST-MODIFIED:20240612T145404Z
UID:10000369-1727517600-1727524800@shop.labonbonniere.ch
SUMMARY:Fabriquez une boite en chocolat et des rochers
DESCRIPTION:Créez votre boite en chocolat personnalisée et de délicieux rochers pour la garnir !\nLe programme :  \n\nNos maîtres-chocolatiers vous initieront à l’histoire du chocolat et de la chocolaterie La Bonbonnière.\nVous prendrez le temps de déguster et de ressentir les saveurs de 3 créations de La Bonbonnière.\nÉtape par étape\, nos maîtres chocolatiers vous guideront et vous donneront leurs astuces pour réaliser une boite en chocolat personnalisée et des rochers au chocolat.\n\nTout au long de l’expérience\, notre équipe sera là pour répondre à toutes vos questions. \n  \nQu’est-ce qui est inclus ? \nToque\, tablier\, chocolat et ingrédients divers\, tout le matériel est fourni lors de l’atelier.\nVous repartirez avec vos créations que vous pourrez déguster et/ou partager quand vous le souhaitez. \n  \nDurée : 2h \n  \nÀ noter : \nDès 12 ans. Minimum 4 participants pour que l’atelier ait lieu. \nLes cours ont lieu en français\, mais peuvent être traduits en anglais. \nSeules les annulations effectuées 48h avant le début de l’atelier sont remboursées. \nExigences alimentaires et allergies : Les tablettes peuvent être réalisées en chocolat au lait ou chocolat noir. Le chocolat noir étant végane et sans gluten\, cet atelier est adapté. Cependant\, si vous êtes allergique aux noisettes\, aux amandes\, pistaches\, ou autres\, merci de le préciser en commentaire au moment de votre réservation\, car cet atelier utilise des fruits secs. \n 
URL:https://shop.labonbonniere.ch/atelier/fabriquez-une-boite-en-chocolat-et-des-rochers-20/
LOCATION:La Bonbonnière Chocolaterie – L’École du Chocolat\, Rue Pierre Fatio 15\, Genève\, 1204\, Suisse
CATEGORIES:Atelier Adulte
ATTACH;FMTTYPE=image/jpeg:https://shop.labonbonniere.ch/wp-content/uploads/2022/09/ateliers_geneve_rochers_choco_titre1.jpg
ORGANIZER;CN="La Bonbonni%C3%A8re Gen%C3%A8ve":MAILTO:communication@labonbonniere.ch
GEO:46.2023577;6.1540153
X-APPLE-STRUCTURED-LOCATION;VALUE=URI;X-ADDRESS=La Bonbonnière Chocolaterie – L’École du Chocolat Rue Pierre Fatio 15 Genève 1204 Suisse;X-APPLE-RADIUS=500;X-TITLE=Rue Pierre Fatio 15:geo:6.1540153,46.2023577
END:VEVENT
END:VCALENDAR